BEGIN:VCALENDAR
VERSION:2.0
PRODID:-//Spalteholz Hotelkompetenz - ECPv6.15.19//NONSGML v1.0//EN
CALSCALE:GREGORIAN
METHOD:PUBLISH
X-ORIGINAL-URL:https://spalteholz.com
X-WR-CALDESC:Veranstaltungen für Spalteholz Hotelkompetenz
REFRESH-INTERVAL;VALUE=DURATION:PT1H
X-Robots-Tag:noindex
X-PUBLISHED-TTL:PT1H
BEGIN:VTIMEZONE
TZID:UTC
BEGIN:STANDARD
TZOFFSETFROM:+0000
TZOFFSETTO:+0000
TZNAME:UTC
DTSTART:20250101T000000
END:STANDARD
END:VTIMEZONE
BEGIN:VEVENT
DTSTART;VALUE=DATE:20260602
DTEND;VALUE=DATE:20260604
DTSTAMP:20260421T192827
CREATED:20210622T144045Z
LAST-MODIFIED:20260123T172940Z
UID:618-1780358400-1780531199@spalteholz.com
SUMMARY:MICE Revenue Management Seminar für Veranstaltungen
DESCRIPTION:Spannend & praxisorientiert! So ist das MICE Revenue Management Seminar!\nMICE Sales & Marketing für Veranstaltungsräume geht heute nicht mehr ohne das dazugehörige Revenue Management. Alles was dazu gehört\, lernen Sie im MICE Revenue Management Seminar. Die Steuerung der Nachfrage im direkten Abgleich mit der Zimmernachfrage ist besonders unter der Woche an Tagen wie z.B. Dienstag und Mittwoch wichtig. Der Mitarbeiter im MICE-Bereich bereitet sich am Besten jetzt darauf vor. Denn der nächste Ansturm kommt bestimmt. Das Das MICE Revenue Managagement Seminar führt ohne Umwege zu  mehr Belegung und Umsatz\, wenn strategisch ausgerichtet. Traditionell hat sich Revenue Management im Bereich Logis etabliert. Spätestens seit der Einführung von MICE Buchungsmaschinen im Jahr 2016\, werden auch im Bereich MICE logische Preisstrukturen\, Anfragemuster und das Prinzip von Angebot & Nachfrage gelebt. Ab jetzt werden Daten strukturiert gesammelt und ausgewertet und zwar für jede einzelne Anfrage\, die in Haus kommt! \nZiele im MICE Revenue Management Seminar\nTagungsanfragen in Umsatz konvertieren. Sie lernen\, welche Daten zur optimalen Kapazitätsauslastung wichtig sind. Sie erleben\, mit welchen Hebeln Sie schon schnell zu besseren Ergebnissen kommen. Und Sie erfahren\, welchen Wert Anfragen haben und wie sie die Spreu vom Weizen trennen. \nZielgruppe\nDie Zielgruppe sind Hoteliers\, Hotelmanager und Hotelmitarbeiter\, die schon erste Erfahrung im Revenue Management für Zimmer haben. Hauptsächlich werden sich leitende Mitarbeiter im Bankett- und Veranstaltungsverkauf für das Thema begeistern. Alle werden letztlich stark von den Inhalten profitieren. Vor allem\, alle gemeinsam! \nThemenschwerpunkte im MICE Revenue Management Seminar\nEinführung\, Analyse und Kennzahlen im MICE Revenue Management\n\nDefinition MICE (Meeting\, Incentive\, Congress\, Event)\nRevenue Management im Veranstaltungsbereich (MICE)\nWichtige Kennzahlen im MICE Revenue Management: TRevPAR\, RevPSQM\, RevPAS\, RevPPAX\nStärken & Schwächen\, USPs im Vergleich zu Mitbewerbern\nProdukt- und Kundenanalyse\nAnalyse Veranstaltungssegmente\nAnalyse der Nachfrage\nAnalyse der Räumebelegung\nKundenverhalten / Buchungsverhalten\n\nPricing im MICE Revenue Management\n\nLogische Preisstruktur im MICE / Veranstaltungsbereich\nDynamic Pricing und Preisstruktur MICE / Veranstaltungsbereich\nDer Aufbau einer Preisstrategie\nMindestumsätze in Räumen und andere Parameter\n\nAnalyse\, Steuerung und Umsetzung im MICE Revenue & Yield Management\n\nWie werte ich Daten aus und was hat unser Betrieb davon?\nWertigkeit einzelner Wochentage\nHerkunft der Veranstaltungsanfragen\nBuchungsvorlauf / Stornierungsvorlauf\nWas lerne ich aus abgelehnten oder unbestätigte Anfragen?\nOption? Was ist das denn?\nVertragswesen im MICE / Veranstaltungsbereich\nDie Gruppenverdrängungsanalyse (Displacement)\n\nEinführung Online Hotelvertrieb für den Veranstaltungsbereich (Direktvertrieb\, Homepage\, E-Distribution)\n\nDatenqualität in Tagungs-RFP-Portalen\nDatenqualität in MICE Buchungsportalen\nDarstellung des MICE Produktes auf der hoteleigenen Homepage\nCorporate Booking Tools\nPreisvergleich in Firmen: Travel Management Systems und ihr Einfluss auf unser Firmengeschäft\n\n\n\n  \n\n\n\nSeminaranmeldung\n\n\n	Bitte wählenFrauHerrDivers\n	 \n\n\n	\n	 \n\n\n	\n	 \n\nPlease leave this field empty.\n \n\n	\n	 \n\n\n	\n	 \n\n\n	*bitte Seminar wählenRevenue Management und Channel DistributionRevenue Management für Hotels - Die BasisRevenue Management AdvancedMICE Revenue Management\n	 \n\n\n	\n	 \n\nRechnungsadresse\n \n\n	\n	 \n\n\n	\n	 \n\n\n	\n	 \n\n\n	\n	 \n\n\n \nBitte nehmen Sie mich in Ihre Kundendatei aufBitte kontaktieren Sie mich persönlich\n \n\n	 Ja\, ich habe die AGB und Datenschutzbestimmungen der Webseite gelesen und bin damit einverstanden\, dass meine übermittelten Daten zum Zwecke der Bearbeitung der Seminaranmeldung gespeichert werden.\n	 \n\n\n ×\n\n\n\nKosten & Rabatte\nEinzelplatz990€zzgl. MwSt.Seminargebühr für 2 Tage0% RabattFrühbucherrabatt842€zzgl. MwStSeminargebühr für 2 Tage 15% Rabatt bis 1 Monat vor SeminarbeginnPro Person kann nur ein Rabatt gewährt werden.Vielbucherrabatt792€zzgl. MwSt.Seminargebühr für 2 Tage 20 % Rabatt ab der zweiten Person pro Hotel pro SeminarMindestanzahl: 2 Personen \nLeistungen\n\nHochaktuelle Marktinformationen \n\nPraxisnahe Vortragsweise \n\nEine Info-Mappe \n\nMittagessen (inkl. 1 Getränk) \n\nKaffee und Erfrischungsgetränke
URL:https://spalteholz.com/seminar/mice-revenue-management/
LOCATION:Präsenz in Frankfurt am Main (oder als Online Webinar bei geringer Teilnehmeranzahl)
CATEGORIES:Seminar
ATTACH;FMTTYPE=image/jpeg:https://spalteholz.com/wp-content/uploads/2020/02/MICE-Seminar-Tagungsraum-Titelfoto.jpg
ORGANIZER;CN="Spalteholz Hotelkompetenz":MAILTO:spalteholz@spalteholz.com
END:VEVENT
END:VCALENDAR